BEGIN:VCALENDAR
VERSION:2.0
PRODID:-//dietrich-bonhoeffer-gymnasium - ECPv6.15.17//NONSGML v1.0//EN
CALSCALE:GREGORIAN
METHOD:PUBLISH
X-ORIGINAL-URL:https://dbg-filderstadt.de
X-WR-CALDESC:Veranstaltungen für dietrich-bonhoeffer-gymnasium
REFRESH-INTERVAL;VALUE=DURATION:PT1H
X-Robots-Tag:noindex
X-PUBLISHED-TTL:PT1H
BEGIN:VTIMEZONE
TZID:Europe/Berlin
BEGIN:DAYLIGHT
TZOFFSETFROM:+0100
TZOFFSETTO:+0200
TZNAME:CEST
DTSTART:20240331T010000
END:DAYLIGHT
BEGIN:STANDARD
TZOFFSETFROM:+0200
TZOFFSETTO:+0100
TZNAME:CET
DTSTART:20241027T010000
END:STANDARD
BEGIN:DAYLIGHT
TZOFFSETFROM:+0100
TZOFFSETTO:+0200
TZNAME:CEST
DTSTART:20250330T010000
END:DAYLIGHT
BEGIN:STANDARD
TZOFFSETFROM:+0200
TZOFFSETTO:+0100
TZNAME:CET
DTSTART:20251026T010000
END:STANDARD
BEGIN:DAYLIGHT
TZOFFSETFROM:+0100
TZOFFSETTO:+0200
TZNAME:CEST
DTSTART:20260329T010000
END:DAYLIGHT
BEGIN:STANDARD
TZOFFSETFROM:+0200
TZOFFSETTO:+0100
TZNAME:CET
DTSTART:20261025T010000
END:STANDARD
END:VTIMEZONE
BEGIN:VEVENT
DTSTART;VALUE=DATE:20250429
DTEND;VALUE=DATE:20250522
DTSTAMP:20260420T123656
CREATED:20240603T080034Z
LAST-MODIFIED:20240603T080034Z
UID:13640-1745884800-1747871999@dbg-filderstadt.de
SUMMARY:Kl. 12 schriftl. Abitur Basiszeitraum
DESCRIPTION:
URL:https://dbg-filderstadt.de/event/kl-12-schriftl-abitur-basiszeitraum-2/
END:VEVENT
BEGIN:VEVENT
DTSTART;TZID=Europe/Berlin:20250521T083000
DTEND;TZID=Europe/Berlin:20250521T133000
DTSTAMP:20260420T123656
CREATED:20250228T095137Z
LAST-MODIFIED:20250228T095137Z
UID:15270-1747816200-1747834200@dbg-filderstadt.de
SUMMARY:Kl. 9d Bewerbertraining Balluff (Hü)
DESCRIPTION:
URL:https://dbg-filderstadt.de/event/kl-9d-bewerbertraining-balluff-hue/
END:VEVENT
BEGIN:VEVENT
DTSTART;TZID=Europe/Berlin:20250521T090000
DTEND;TZID=Europe/Berlin:20250521T140000
DTSTAMP:20260420T123656
CREATED:20240730T072451Z
LAST-MODIFIED:20240730T072451Z
UID:14062-1747818000-1747836000@dbg-filderstadt.de
SUMMARY:Kl. 12 schriftl. Abitur Chemie
DESCRIPTION:
URL:https://dbg-filderstadt.de/event/kl-12-schriftl-abitur-chemie-2/
END:VEVENT
END:VCALENDAR